BEGIN:VCALENDAR
VERSION:2.0
PRODID:-//wp-events-plugin.com//7.2.2.1//EN
BEGIN:VEVENT
UID:293@vivid-curls.de
DTSTART;TZID=Europe/Berlin:20250308T200000
DTEND;TZID=Europe/Berlin:20250308T221500
DTSTAMP:20250217T063328Z
URL:https://www.vivid-curls.de/events/zehntstadel-goettingen-langenau/
SUMMARY:Zehntstadel Göttingen - Langenau
DESCRIPTION:Wir freuen uns auf ein Wiedersehen im Rahmen unserer NOCH IMMER
  TOUR und haben wahrscheinlich auch das eine oder andere Lied von unserem 
 neuen Projekt mit im Gepäck.\n\nWeitere Infos findet ihr unter: www.lange
 nau.de\n\nKarten unter:kulturbuero@langenau.de o. Tel.: 0 73 45/96 22-141 
 - im BürgerBüro\, in der Stadtbücherei\, bei der Buchhandlung Mahr (Lan
 ge Str. 8)\, bei allen Reservix-Vorverkaufsstellen und online unter: www.p
 fleghof-langenau.de.\n\nBis dahin eine gute Zeit....Irene und Inka
ATTACH;FMTTYPE=image/jpeg:https://www.vivid-curls.de/wp-content/uploads/20
 24/03/20231105_055542_644-scaled.jpg
CATEGORIES:Konzerte
LOCATION:Göttingen bei Langenau\, Pfarrgasse\, Göttingen\, Deutschland
GEO:49.4259188;8.686002599999938
X-APPLE-STRUCTURED-LOCATION;VALUE=URI;X-ADDRESS=Pfarrgasse\, Göttingen\, D
 eutschland;X-APPLE-RADIUS=100;X-TITLE=Göttingen bei Langenau:geo:49.42591
 88,8.686002599999938
END:VEVENT
BEGIN:VTIMEZONE
TZID:Europe/Berlin
X-LIC-LOCATION:Europe/Berlin
BEGIN:STANDARD
DTSTART:20241027T020000
TZOFFSETFROM:+0200
TZOFFSETTO:+0100
TZNAME:CET
END:STANDARD
END:VTIMEZONE
END:VCALENDAR