BEGIN:VCALENDAR
VERSION:2.0
PRODID:-//wp-events-plugin.com//7.2.2.1//EN
BEGIN:VEVENT
UID:36@vivid-curls.de
DTSTART:20170715T170000Z
DTEND:20170715T200000Z
DTSTAMP:20170510T080930Z
URL:https://www.vivid-curls.de/events/waldziegenhof-ziertheim/
SUMMARY:Waldziegenhof - Ziertheim
DESCRIPTION:Duokonzert\n\nBeginn: 19:00 Uhr\n\nEintritt frei!
ATTACH;FMTTYPE=image/jpeg:https://www.vivid-curls.de/wp-content/uploads/20
 17/01/VividCurlsHeaderbild-bearbeitet-2-DSC_1724.jpg
CATEGORIES:Duokonzert
LOCATION:Waldziegenhof\, Schlossstr. 19\, Ziertheim\, 89446\, Deutschland
GEO:48.650997;10.396800999999982
X-APPLE-STRUCTURED-LOCATION;VALUE=URI;X-ADDRESS=Schlossstr. 19\, Ziertheim\
 , 89446\, Deutschland;X-APPLE-RADIUS=100;X-TITLE=Waldziegenhof:geo:48.6509
 97,10.396800999999982
END:VEVENT
END:VCALENDAR