BEGIN:VCALENDAR
VERSION:2.0
PRODID:-//wp-events-plugin.com//7.2.2.1//EN
BEGIN:VEVENT
UID:302@vivid-curls.de
DTSTART;TZID=Europe/Berlin:20251115T200000
DTEND;TZID=Europe/Berlin:20251115T221500
DTSTAMP:20250709T122005Z
URL:https://www.vivid-curls.de/events/uditorium-uhingen-3/
SUMMARY:Uditorium - Uhingen - SOUNDS OF SILENCE
DESCRIPTION:Wir spielen die Songs von Simon &amp\; Garfunkel\, Fleetwood Ma
 c\, Carole King\, Dolly Parton\, Sting\, Peter Gabriel...Songs\, die unver
 gesslich sind und die wir immer lieben werden!\n\nWir laden euch ein - kom
 mt mit uns mit - wir drehen die Zeit zurück!\n\nVVK und weitere Infos: ht
 tps://www.reservix.de/tickets-vivid-curls-sounds-of-silence-in-uhingen-udi
 torium-uhingen-am-15-11-2025/e2392997\n\noder www.uditorium.de oder. Tel.:
  0 71 61/9 38 01 27\n\nWir freuen uns auf euch!\n\nIrene &amp\; Inka
ATTACH;FMTTYPE=image/jpeg:https://www.vivid-curls.de/wp-content/uploads/20
 17/01/VividCurlsHeaderbild-bearbeitet-2-DSC_1724.jpg
CATEGORIES:Konzerte
LOCATION:Uditorium\, Ulmer Str. 7\, Uhingen\, 73066\, Deutschland
GEO:48.7059124;9.58452120000004
X-APPLE-STRUCTURED-LOCATION;VALUE=URI;X-ADDRESS=Ulmer Str. 7\, Uhingen\, 73
 066\, Deutschland;X-APPLE-RADIUS=100;X-TITLE=Uditorium:geo:48.7059124,9.58
 452120000004
END:VEVENT
BEGIN:VTIMEZONE
TZID:Europe/Berlin
X-LIC-LOCATION:Europe/Berlin
BEGIN:STANDARD
DTSTART:20251026T020000
TZOFFSETFROM:+0200
TZOFFSETTO:+0100
TZNAME:CET
END:STANDARD
END:VTIMEZONE
END:VCALENDAR