BEGIN:VCALENDAR
VERSION:2.0
PRODID:-//wp-events-plugin.com//7.2.2.1//EN
BEGIN:VEVENT
UID:267@vivid-curls.de
DTSTART;TZID=Africa/Abidjan:20240508T200000
DTEND;TZID=Africa/Abidjan:20240508T221500
DTSTAMP:20240405T110907Z
URL:https://www.vivid-curls.de/events/theaterkaestle-altusried/
SUMMARY:Theaterkästle - Altusried
DESCRIPTION:NOCH IMMER - 22 Jahre Vivid Curls\n\nUnsere Konzerte sind ein m
 oderner Trip zurück in die Zeit handgemachter\, ehrlicher Gitarrenmusik\,
  gänsehauttreibendem Harmoniegesang\, Tiefgang\, Vision und Lebensfreude.
 \n\n22 Jahre machen es uns zum Anliegen zurückzublicken:\n\nEs war eine i
 ntensive und bewegte Zeit\, voller Leidenschaft für die Musik\, voller "K
 inder\, Küche und Karriere"\, voller Höhenflüge und Tiefschläge und do
 ch immer wundervoll gewesene 22 Jahre.\n\nWir lassen euch an unseren Gesch
 ichten aus dem Leben\, an unseren Träumen\, geplatzten und erfüllten\, t
 eilhaben und laden euch ein zu einem Abend mit den bedeutendsten Vivid Cur
 ls Songs und Liedern von unserem neuen Album NOCH IMMER.\n\nKarten und wei
 tere Infos: www.theaterkaestle.de\n\nIrene &amp\; Inka
ATTACH;FMTTYPE=image/jpeg:https://www.vivid-curls.de/wp-content/uploads/20
 13/12/2011-12-10-kultbox-kempten-01.jpg
CATEGORIES:Konzerte
LOCATION:Theaterkästle - Altusried\, Schulstr. 5\, Altusried\, 87452\, Deu
 tschland
X-APPLE-STRUCTURED-LOCATION;VALUE=URI;X-ADDRESS=Schulstr. 5\, Altusried\, 8
 7452\, Deutschland;X-APPLE-RADIUS=100;X-TITLE=Theaterkästle - Altusried:g
 eo:0,0
END:VEVENT
BEGIN:VTIMEZONE
TZID:Africa/Abidjan
X-LIC-LOCATION:Africa/Abidjan
BEGIN:STANDARD
DTSTART:20230509T200000
TZOFFSETFROM:+0000
TZOFFSETTO:+0000
TZNAME:GMT
END:STANDARD
END:VTIMEZONE
END:VCALENDAR