BEGIN:VCALENDAR
VERSION:2.0
PRODID:-//wp-events-plugin.com//7.2.2.1//EN
BEGIN:VEVENT
UID:300@vivid-curls.de
DTSTART;TZID=Europe/Berlin:20251015T201500
DTEND;TZID=Europe/Berlin:20251015T220000
DTSTAMP:20251013T115742Z
URL:https://www.vivid-curls.de/events/theaterhaus-stuttgart-sounds-of-sile
 nce/
SUMMARY:Theaterhaus - Stuttgart - SOUNDS OF SILENCE - ausverkauft
DESCRIPTION:Wir spielen die Songs von Simon &amp\; Garfunkel\, Fleetwood Ma
 c\, Carole King\, Dolly Parton\, Sting\, Peter Gabriel...Songs\, die unver
 gesslich sind und die wir immer lieben werden!\n\nWir laden euch ein - kom
 mt mit uns mit - wir drehen die Zeit zurück!\n\nVVK und weitere Infos: ww
 w.theaterhaus.com oder Tel.: 07 11/40 20 70\n\nWir freuen uns auf euch!\n\
 nIrene &amp\; Inka
ATTACH;FMTTYPE=image/jpeg:https://www.vivid-curls.de/wp-content/uploads/20
 17/01/VividCurlsHeaderbild-bearbeitet-2-DSC_1724.jpg
CATEGORIES:Konzerte
LOCATION:Theaterhaus\, Siemensstr. 11\, Stuttgart\, 70469\, Deutschland
GEO:48.8104937;9.18034130000001
X-APPLE-STRUCTURED-LOCATION;VALUE=URI;X-ADDRESS=Siemensstr. 11\, Stuttgart\
 , 70469\, Deutschland;X-APPLE-RADIUS=100;X-TITLE=Theaterhaus:geo:48.810493
 7,9.18034130000001
END:VEVENT
BEGIN:VTIMEZONE
TZID:Europe/Berlin
X-LIC-LOCATION:Europe/Berlin
BEGIN:DAYLIGHT
DTSTART:20250330T030000
TZOFFSETFROM:+0100
TZOFFSETTO:+0200
TZNAME:CEST
END:DAYLIGHT
END:VTIMEZONE
END:VCALENDAR