BEGIN:VCALENDAR
VERSION:2.0
PRODID:-//wp-events-plugin.com//7.2.2.1//EN
BEGIN:VEVENT
UID:52@vivid-curls.de
DTSTART:20171118T180000Z
DTEND:20171118T193000Z
DTSTAMP:20171115T095130Z
URL:https://www.vivid-curls.de/events/sumserhalle-wasserburg-bodensee/
SUMMARY:Sumserhalle - Wasserburg (Bodensee)
DESCRIPTION:Bandkonzert mit Markus Wohner\, Helmuth Baumann und Florian Hir
 le!\n\nWir freuen uns sehr\, zum ersten Mal mit unserer fabelhaften Band i
 n Wasserburg am Bodensee zu spielen.\n\nVVK: Touristinfo Wasserburg - Lind
 enplatz 1 - 08382/887474\,\n\nReservix VVK-Stellen oder an der Abendkasse
ATTACH;FMTTYPE=image/jpeg:https://www.vivid-curls.de/wp-content/uploads/20
 16/11/KORNHAUS_2016_IMG_3391-scaled.jpg
CATEGORIES:Konzerte
LOCATION:Sumserhalle Wasserburg\, Reutener Str. 12\, Wasserburg\, Deutschla
 nd
GEO:47.56648879999999;9.641719899999998
X-APPLE-STRUCTURED-LOCATION;VALUE=URI;X-ADDRESS=Reutener Str. 12\, Wasserbu
 rg\, Deutschland;X-APPLE-RADIUS=100;X-TITLE=Sumserhalle Wasserburg:geo:47.
 56648879999999,9.641719899999998
END:VEVENT
END:VCALENDAR