BEGIN:VCALENDAR
VERSION:2.0
PRODID:-//wp-events-plugin.com//7.2.2.1//EN
BEGIN:VEVENT
UID:49@vivid-curls.de
DTSTART:20171021T180000Z
DTEND:20171021T203000Z
DTSTAMP:20170510T090611Z
URL:https://www.vivid-curls.de/events/stadtsaal-kaufbeuren/
SUMMARY:Stadtsaal - Kaufbeuren
DESCRIPTION:Bandkonzert mit Markus Wohner\, Helmuth Baumann und Florian Hir
 le\n\n&nbsp\;\n\nWeitere Infos und Karten unter: vividinka@gmx.de oder Tel
 . 08291/8 59 93 90
ATTACH;FMTTYPE=image/jpeg:https://www.vivid-curls.de/wp-content/uploads/20
 16/11/KORNHAUS_2016_IMG_3391-scaled.jpg
CATEGORIES:Bandkonzert
LOCATION:Stadtsaal Kaufbeuren\, Augsburgerstr. 2\, Kaufbeuren\, 87600\, Deu
 tschland
GEO:47.88244;10.629199999999969
X-APPLE-STRUCTURED-LOCATION;VALUE=URI;X-ADDRESS=Augsburgerstr. 2\, Kaufbeur
 en\, 87600\, Deutschland;X-APPLE-RADIUS=100;X-TITLE=Stadtsaal Kaufbeuren:g
 eo:47.88244,10.629199999999969
END:VEVENT
END:VCALENDAR