BEGIN:VCALENDAR
VERSION:2.0
PRODID:-//wp-events-plugin.com//7.2.2.1//EN
BEGIN:VEVENT
UID:35@vivid-curls.de
DTSTART:20170714T180000Z
DTEND:20170714T203000Z
DTSTAMP:20170510T080535Z
URL:https://www.vivid-curls.de/events/stadion-fc-memmingen-mit-sarah-strau
 b-ruth-rossel/
SUMMARY:Stadion FC - Memmingen - mit Sarah Straub & Ruth Rossel
DESCRIPTION:Wir spielen in der Arena Memmingen - sehr cool - wir freuen uns
  auf gutes Wetter und Euch!\n\nTickets und weitere Infos unter: www.fc-mem
 mingen.de
ATTACH;FMTTYPE=image/jpeg:https://www.vivid-curls.de/wp-content/uploads/20
 17/01/DSC_0128-scaled.jpg
CATEGORIES:Sarah Straub
LOCATION:Arena Memmingen\, Bodenseestr. 59\, Memmingen\, 87700\, Deutschlan
 d
GEO:47.97782000000001;10.165449999999964
X-APPLE-STRUCTURED-LOCATION;VALUE=URI;X-ADDRESS=Bodenseestr. 59\, Memmingen
 \, 87700\, Deutschland;X-APPLE-RADIUS=100;X-TITLE=Arena Memmingen:geo:47.9
 7782000000001,10.165449999999964
END:VEVENT
END:VCALENDAR