BEGIN:VCALENDAR
VERSION:2.0
PRODID:-//wp-events-plugin.com//7.2.2.1//EN
BEGIN:VEVENT
UID:309@vivid-curls.de
DTSTART;TZID=Europe/Berlin:20251221T180000
DTEND;TZID=Europe/Berlin:20251221T203000
DTSTAMP:20251202T184659Z
URL:https://www.vivid-curls.de/events/st-albert-saal-zusmarshausen-schneef
 lockennacht-mit-martina-noichl-hedwig-roth/
SUMMARY:St. Albert Saal - Zusmarshausen - SCHNEEFLOCKENNACHT mit Martina No
 ichl & Hedwig Roth
DESCRIPTION:Auf in die letzte Runde!\n\nDreistimmige Jodler\, Gitarren\, wu
 ndervolle Harfenklänge und die schönsten Weihnachtslieder...taucht mit u
 ns ein in den Zauber einer magischen Schneeflockennacht!\n\nJa\, es leucht
 en Wunder in dieser ganz besonderen Zeit.\n\nKarten und weitere Infos:\n\n
 VVK Online unter folgendem Link:  Tickets für Schneeflockennacht am 21.12
 .2025 in Festsaal St. Albert\, Zusmarshausen | Ticketshop ZusKultur\n\nhtt
 ps://www.eventim-light.com/de/a/64f6fdb953f201410de86567\n\nMo\, Mi &amp\;
  Fr 8-12 Uhr bei Julia Endrös im Büro im Rathaus in Zusmarshausen\n\nwww
 .zuskultur.de oder www.eventim.de\n\nWir freuen uns auf euch!\n\nIrene &am
 p\; Inka
ATTACH;FMTTYPE=image/jpeg:https://www.vivid-curls.de/wp-content/uploads/20
 20/10/Schneeflockennacht_Cover_2020_1400x1400px-scaled.jpg
CATEGORIES:Konzerte
LOCATION:St. Albert Festsaal - Seniorenzentrum\, Hochstiftstraße 6\, Zusma
 rshausen\, 86441\, Deutschland
X-APPLE-STRUCTURED-LOCATION;VALUE=URI;X-ADDRESS=Hochstiftstraße 6\, Zusmar
 shausen\, 86441\, Deutschland;X-APPLE-RADIUS=100;X-TITLE=St. Albert Festsa
 al - Seniorenzentrum:geo:0,0
END:VEVENT
BEGIN:VTIMEZONE
TZID:Europe/Berlin
X-LIC-LOCATION:Europe/Berlin
BEGIN:STANDARD
DTSTART:20251026T020000
TZOFFSETFROM:+0200
TZOFFSETTO:+0100
TZNAME:CET
END:STANDARD
END:VTIMEZONE
END:VCALENDAR