BEGIN:VCALENDAR
VERSION:2.0
PRODID:-//wp-events-plugin.com//7.2.2.1//EN
BEGIN:VEVENT
UID:284@vivid-curls.de
DTSTART;TZID=Europe/Berlin:20241230T193000
DTEND;TZID=Europe/Berlin:20241230T220000
DTSTAMP:20240620T100910Z
URL:https://www.vivid-curls.de/events/schneeflockennachtkonzert-parktheate
 r-augsburg-goeggingen-mit-martina-noichl-und-hedwig-roth/
SUMMARY:SCHNEEFLOCKENNACHTKONZERT - Parktheater - Augsburg (Göggingen) mit
  Martina Noichl und Hedwig Roth
DESCRIPTION:Taucht mit uns ein in den Zauber einer magischen Schneeflockenn
 acht...es leuchten Wunder in dieser ganz besonderen Zeit!\n\nMit dreistimm
 igen Jodlern\, Gitarren und wundervollen Harfenklängen\, sowie traditione
 llen und modernen Weihnachtsliedern wollen wir euch zum Träumen und Inneh
 alten verführen und die Vorfreude auf ein friedvolles Weihnachtsfest weck
 en.\n\nWeitere Infos und Karten unter: www.parktheater.de\n\nWir freuen un
 s auf euch!\n\nIrene &amp\; Inka
ATTACH;FMTTYPE=image/jpeg:https://www.vivid-curls.de/wp-content/uploads/20
 20/10/Schneeflockennacht_Cover_2020_1400x1400px-scaled.jpg
CATEGORIES:Konzerte
LOCATION:Parktheater\, Klausenberg 6\, Augsburg\, 86199\, Deutschland
GEO:48.3420399;10.869860099999982
X-APPLE-STRUCTURED-LOCATION;VALUE=URI;X-ADDRESS=Klausenberg 6\, Augsburg\, 
 86199\, Deutschland;X-APPLE-RADIUS=100;X-TITLE=Parktheater:geo:48.3420399,
 10.869860099999982
END:VEVENT
BEGIN:VTIMEZONE
TZID:Europe/Berlin
X-LIC-LOCATION:Europe/Berlin
BEGIN:STANDARD
DTSTART:20241027T020000
TZOFFSETFROM:+0200
TZOFFSETTO:+0100
TZNAME:CET
END:STANDARD
END:VTIMEZONE
END:VCALENDAR