BEGIN:VCALENDAR
VERSION:2.0
PRODID:-//wp-events-plugin.com//7.2.2.1//EN
BEGIN:VEVENT
UID:285@vivid-curls.de
DTSTART;TZID=Europe/Berlin:20241213T200000
DTEND;TZID=Europe/Berlin:20241213T223000
DTSTAMP:20240702T120755Z
URL:https://www.vivid-curls.de/events/schneeflockennachtkonzert-kultbox-ke
 mpten-mit-martina-noichl-und-hedwig-roth/
SUMMARY:SCHNEEFLOCKENNACHTKONZERT - kultBOX - Kempten mit Martina Noichl un
 d Hedwig Roth
DESCRIPTION:Taucht mit uns ein in den Zauber einer magischen Schneeflockenn
 acht...es leuchten Wunder in dieser ganz besonderen Zeit!\n\nMit dreistimm
 igen Jodlern\, Gitarren und wundervollen Harfenklängen\, sowie traditione
 llen und modernen Weihnachtsliedern wollen wir euch zum Träumen und Inneh
 alten verführen und die Vorfreude auf ein friedvolles Weihnachtsfest weck
 en.\n\nKarten und weitere Infos unter: www.bigboxallgaeu.de\n\nWir freuen 
 uns auf euch!\n\nIrene &amp\; Inka
ATTACH;FMTTYPE=image/jpeg:https://www.vivid-curls.de/wp-content/uploads/20
 20/10/Schneeflockennacht_Cover_2020_1400x1400px-scaled.jpg
CATEGORIES:Konzerte
LOCATION:kultBox Kempten\, Kottener Str. 62-64\, Kempten\, Deutschland
GEO:47.72014069999999;10.31691580000006
X-APPLE-STRUCTURED-LOCATION;VALUE=URI;X-ADDRESS=Kottener Str. 62-64\, Kempt
 en\, Deutschland;X-APPLE-RADIUS=100;X-TITLE=kultBox Kempten:geo:47.7201406
 9999999,10.31691580000006
END:VEVENT
BEGIN:VTIMEZONE
TZID:Europe/Berlin
X-LIC-LOCATION:Europe/Berlin
BEGIN:STANDARD
DTSTART:20241027T020000
TZOFFSETFROM:+0200
TZOFFSETTO:+0100
TZNAME:CET
END:STANDARD
END:VTIMEZONE
END:VCALENDAR