BEGIN:VCALENDAR
VERSION:2.0
PRODID:-//wp-events-plugin.com//7.2.2.1//EN
BEGIN:VEVENT
UID:281@vivid-curls.de
DTSTART;TZID=Europe/Berlin:20241218T190000
DTEND;TZID=Europe/Berlin:20241218T213000
DTSTAMP:20241204T151822Z
URL:https://www.vivid-curls.de/events/schneeflockennachtkonzert-dampfsaeg-
 sontheim-mit-martina-noichl-und-hedwig-roth/
SUMMARY:SCHNEEFLOCKENNACHTKONZERT - Dampfsäg - Sontheim - mit Martina Noic
 hl und Hedwig Roth
DESCRIPTION:Taucht mit uns ein in den Zauber einer magischen Schneeflockenn
 acht...es leuchten Wunder in dieser ganz besonderen Zeit!\n\nMit dreistimm
 igen Jodlern\, Gitarren und wundervollen Harfenklängen\, sowie traditione
 llen und modernen Weihnachtsliedern wollen wir euch zum Träumen und Inneh
 alten verführen und die Vorfreude auf ein friedvolles Weihnachtsfest weck
 en.\n\nKarten und weitere Infos findet ihr unter: www.dampfsaeg.de oder Te
 l.: 0 83 36/2 26\n\nWir freuen uns schon sehr....Irene &amp\; Inka\n\n&nbs
 p\;
ATTACH;FMTTYPE=image/jpeg:https://www.vivid-curls.de/wp-content/uploads/20
 20/10/Schneeflockennacht_Cover_2020_1400x1400px-scaled.jpg
CATEGORIES:Konzerte
LOCATION:Dampfsäg\, Westerheimer Str. 8\, 87776 Sontheim\, Deutschland
GEO:48.0121501;10.341230099999961
X-APPLE-STRUCTURED-LOCATION;VALUE=URI;X-ADDRESS=Westerheimer Str. 8\, 87776
  Sontheim\, Deutschland;X-APPLE-RADIUS=100;X-TITLE=Dampfsäg:geo:48.012150
 1,10.341230099999961
END:VEVENT
BEGIN:VTIMEZONE
TZID:Europe/Berlin
X-LIC-LOCATION:Europe/Berlin
BEGIN:STANDARD
DTSTART:20241027T020000
TZOFFSETFROM:+0200
TZOFFSETTO:+0100
TZNAME:CET
END:STANDARD
END:VTIMEZONE
END:VCALENDAR