BEGIN:VCALENDAR
VERSION:2.0
PRODID:-//wp-events-plugin.com//7.2.2.1//EN
BEGIN:VEVENT
UID:283@vivid-curls.de
DTSTART;TZID=Europe/Berlin:20241222T180000
DTEND;TZID=Europe/Berlin:20241222T203000
DTSTAMP:20240620T100541Z
URL:https://www.vivid-curls.de/events/schneeflockennachtkonzert-christuski
 rche-fuessen-mit-martina-noichl-und-hedwig-roth/
SUMMARY:SCHNEEFLOCKENNACHTKONZERT - Christuskirche - Füssen - mit Martina 
 Noichl und Hedwig Roth
DESCRIPTION:Taucht mit uns ein in den Zauber einer magischen Schneeflockenn
 acht...es leuchten Wunder in dieser ganz besonderen Zeit!\n\nMit dreistimm
 igen Jodlern\, Gitarren und wundervollen Harfenklängen\, sowie traditione
 llen und modernen Weihnachtsliedern wollen wir euch zum Träumen und Inneh
 alten verführen und die Vorfreude auf ein friedvolles Weihnachtsfest weck
 en.\n\nKarten sind nur an der Abendkasse erhältlich\n\nWir freuen uns sch
 on sehr!\n\nIrene &amp\; Inka
ATTACH;FMTTYPE=image/jpeg:https://www.vivid-curls.de/wp-content/uploads/20
 20/10/Schneeflockennacht_Cover_2020_1400x1400px-scaled.jpg
CATEGORIES:Konzerte
LOCATION:Christuskirche\, Kirchstraße 2\, Füssen\, Bayern\, 87629\, Deuts
 chland
X-APPLE-STRUCTURED-LOCATION;VALUE=URI;X-ADDRESS=Kirchstraße 2\, Füssen\, 
 Bayern\, 87629\, Deutschland;X-APPLE-RADIUS=100;X-TITLE=Christuskirche:geo
 :0,0
END:VEVENT
BEGIN:VTIMEZONE
TZID:Europe/Berlin
X-LIC-LOCATION:Europe/Berlin
BEGIN:STANDARD
DTSTART:20241027T020000
TZOFFSETFROM:+0200
TZOFFSETTO:+0100
TZNAME:CET
END:STANDARD
END:VTIMEZONE
END:VCALENDAR