BEGIN:VCALENDAR
VERSION:2.0
PRODID:-//wp-events-plugin.com//7.2.2.1//EN
BEGIN:VEVENT
UID:87@vivid-curls.de
DTSTART:20180806T180000Z
DTEND:20180806T203000Z
DTSTAMP:20180608T082905Z
URL:https://www.vivid-curls.de/events/residenzinnenhof-kempten/
SUMMARY:Residenzinnenhof - Kempten
DESCRIPTION:Vivid Curls &amp\; Sarah Straub &amp\; Ruth Rossel\n\nstimmgewa
 ltig - ausdrucksstark - unplugged\n\nWir haben die schönsten Songs aus de
 m jeweiligen Repertoire für euch ausgesucht und gemeinsam arrangiert.\n\n
 Klavier\, Gitarre\, Cello und dreistimmiger Gesang.\n\nKarten gibt es bei 
 allen VVK-Stellen der Allgäuer Zeitung\, Tel. 206 5555 oder unter www.eve
 ntim.de\n\nEintritt: 15\,-\n\nWir hoffen auf wunderschönes Wetter!\n\nSol
 lte es dennoch regnen oder saukalt sein findet das Konzert im Stadttheater
  Kempten statt.
ATTACH;FMTTYPE=image/jpeg:https://www.vivid-curls.de/wp-content/uploads/20
 15/05/vivid-curls_sarah-straub.jpg
CATEGORIES:Konzerte
LOCATION:Residenzinnenhof\, Residenzplatz\, Kempten\, 87435\, Deutschland
GEO:47.7275181;10.31340309999996
X-APPLE-STRUCTURED-LOCATION;VALUE=URI;X-ADDRESS=Residenzplatz\, Kempten\, 8
 7435\, Deutschland;X-APPLE-RADIUS=100;X-TITLE=Residenzinnenhof:geo:47.7275
 181,10.31340309999996
END:VEVENT
END:VCALENDAR