BEGIN:VCALENDAR
VERSION:2.0
PRODID:-//wp-events-plugin.com//7.2.2.1//EN
BEGIN:VEVENT
UID:40@vivid-curls.de
DTSTART:20170801T173000Z
DTEND:20170801T200000Z
DTSTAMP:20170510T082900Z
URL:https://www.vivid-curls.de/events/reesegarden-augsburg/
SUMMARY:Reesegarden- Augsburg
DESCRIPTION:Duokonzert\n\nBeginn: 19:30 - bei guter Witterung / 20:30 Uhr 
 - bei Regen!\n\n&nbsp\;\n\nEintritt frei!
ATTACH;FMTTYPE=image/jpeg:https://www.vivid-curls.de/wp-content/uploads/20
 17/01/VividCurlsHeaderbild-verbessert-retuschiert-3-DSC_1724-e154957785651
 9.jpg
CATEGORIES:Duokonzert
LOCATION:Reesegarden Augsburg\, Sommestr.  30\, Augsburg\, 86156\, Deutschl
 and
GEO:48.377319;10.867928300000016
X-APPLE-STRUCTURED-LOCATION;VALUE=URI;X-ADDRESS=Sommestr.  30\, Augsburg\, 
 86156\, Deutschland;X-APPLE-RADIUS=100;X-TITLE=Reesegarden Augsburg:geo:48
 .377319,10.867928300000016
END:VEVENT
END:VCALENDAR