BEGIN:VCALENDAR
VERSION:2.0
PRODID:-//wp-events-plugin.com//7.2.2.1//EN
BEGIN:VEVENT
UID:303@vivid-curls.de
DTSTART;TZID=Europe/Berlin:20251107T200000
DTEND;TZID=Europe/Berlin:20251107T221500
DTSTAMP:20251106T132221Z
URL:https://www.vivid-curls.de/events/podium-kaufbeuren-2/
SUMMARY:Podium - Kaufbeuren - SOUNDS OF SILENCE - ausverkauft
DESCRIPTION:Wir spielen die Songs von Simon &amp\; Garfunkel\, Fleetwood Ma
 c\, Carole King\, Dolly Parton\, Sting\, Peter Gabriel...Songs\, die unver
 gesslich sind und die wir immer lieben werden!\n\nWir laden euch ein - kom
 mt mit uns mit - wir drehen die Zeit zurück!\n\nVVK und weitere Infos: ht
 tps://www.eventim.de/noapp/event/vivid-curls-podium-kaufbeuren-20494040/?a
 ffiliate=AZT&amp\;utm_campaign=allgaeuer+Zeitung&amp\;utm_source=AZT&amp\;
 utm_medium=dp\n\nDer VVK startet am 25. August 2025\n\nwww.podium-kaufbeur
 en.de oder Tel.: 0 83 41/1 30 02\n\nWir freuen uns auf euch!\n\nIrene &amp
 \; Inka
ATTACH;FMTTYPE=image/jpeg:https://www.vivid-curls.de/wp-content/uploads/20
 17/01/VividCurlsHeaderbild-bearbeitet-2-DSC_1724.jpg
CATEGORIES:Konzerte
LOCATION:Podium Kaufbeuren\, Innere Buchleuthenstr. 28\, Kaufbeuren\, Deuts
 chland
GEO:47.8747084;10.6212173
X-APPLE-STRUCTURED-LOCATION;VALUE=URI;X-ADDRESS=Innere Buchleuthenstr. 28\,
  Kaufbeuren\, Deutschland;X-APPLE-RADIUS=100;X-TITLE=Podium Kaufbeuren:geo
 :47.8747084,10.6212173
END:VEVENT
BEGIN:VTIMEZONE
TZID:Europe/Berlin
X-LIC-LOCATION:Europe/Berlin
BEGIN:STANDARD
DTSTART:20251026T020000
TZOFFSETFROM:+0200
TZOFFSETTO:+0100
TZNAME:CET
END:STANDARD
END:VTIMEZONE
END:VCALENDAR