BEGIN:VCALENDAR
VERSION:2.0
PRODID:-//wp-events-plugin.com//7.2.2.1//EN
BEGIN:VEVENT
UID:65@vivid-curls.de
DTSTART:20180427T180000Z
DTEND:20180427T210000Z
DTSTAMP:20180116T201614Z
URL:https://www.vivid-curls.de/events/pflanzeneck-wendeburg-wense/
SUMMARY:Pflanzeneck Wendeburg-Wense
DESCRIPTION:Infos und Ticket unter www.pflanzeneck.de\n\n05303 - 2767\, 01
 79 - 5996425\, info@pflanzeneck.de\n\nDuokonzert
ATTACH;FMTTYPE=image/jpeg:https://www.vivid-curls.de/wp-content/uploads/20
 17/01/VividCurlsHeaderbild-verbessert-retuschiert-3-DSC_1724-e154957785651
 9.jpg
CATEGORIES:Konzerte
LOCATION:Pflanzeneck Wendeburg-Wense\, Dorfstr. 1 \, 38176 Wendeburg-Wense 
 \, Deutschland
GEO:52.3598244;10.362875099999997
X-APPLE-STRUCTURED-LOCATION;VALUE=URI;X-ADDRESS=Dorfstr. 1 \, 38176 Wendebu
 rg-Wense \, Deutschland;X-APPLE-RADIUS=100;X-TITLE=Pflanzeneck Wendeburg-W
 ense:geo:52.3598244,10.362875099999997
END:VEVENT
END:VCALENDAR