BEGIN:VCALENDAR
VERSION:2.0
PRODID:-//wp-events-plugin.com//7.2.2.1//EN
BEGIN:VEVENT
UID:53@vivid-curls.de
DTSTART:20171130T173000Z
DTEND:20171130T200000Z
DTSTAMP:20170926T124757Z
URL:https://www.vivid-curls.de/events/parktheater-goeggingen-augsburg/
SUMMARY:Parktheater Göggingen - Augsburg
DESCRIPTION:Vivid Curls &amp\; Sarah Straub &amp\; Ruth Rossel\n\n&nbsp\;\n
 \nKarten und weitere Infos:\n\nwww.parktheater.de\n\nParktheater Ticketser
 vice\, Klausenberg 6\, 86199 Augsburg\, Tel. 0821/9062222\n\nCTS Eventim V
 VK-Stellen
ATTACH;FMTTYPE=image/jpeg:https://www.vivid-curls.de/wp-content/uploads/20
 15/05/vivid-curls_sarah-straub.jpg
CATEGORIES:Konzerte
LOCATION:Parktheater Göggingen\, Klausenberg 6\, Augsburg\, Deutschland
GEO:48.6133672;10.809678599999983
X-APPLE-STRUCTURED-LOCATION;VALUE=URI;X-ADDRESS=Klausenberg 6\, Augsburg\, 
 Deutschland;X-APPLE-RADIUS=100;X-TITLE=Parktheater Göggingen:geo:48.61336
 72,10.809678599999983
END:VEVENT
END:VCALENDAR