BEGIN:VCALENDAR
VERSION:2.0
PRODID:-//wp-events-plugin.com//7.2.2.1//EN
BEGIN:VEVENT
UID:272@vivid-curls.de
DTSTART;TZID=Africa/Abidjan:20240623T193000
DTEND;TZID=Africa/Abidjan:20240623T214500
DTSTAMP:20240527T114520Z
URL:https://www.vivid-curls.de/events/parktheater-goeggingen-augsburg-2/
SUMMARY:Parktheater - Göggingen/Augsburg - ABGESAGT
DESCRIPTION:Leider mussten wir unser Konzert im Parktheater absagen.\n\nWer
  uns mit Band sehen möchte\, wir spielen am Do.: 18.07.24 im Rahmen des I
 mmenstädter Sommers - open Air Klostergarten (überdacht) und darauf freu
 en wir uns schon sehr!\n\nIns Parktheater kommen wir wieder im Rahmen unse
 rer Schneeflockennacht und das wird bestimmt\, wie jedes Jahr\, wieder gra
 ndios.\n\nIrene &amp\; Inka
ATTACH;FMTTYPE=image/jpeg:https://www.vivid-curls.de/wp-content/uploads/20
 24/01/20231105_072145_679-scaled.jpg
CATEGORIES:Konzerte
LOCATION:Kurhaus Göggingen\, Klausenberg 6\, Augsburg\, 86199\, Deutschlan
 d
GEO:48.3420399;10.8698601
X-APPLE-STRUCTURED-LOCATION;VALUE=URI;X-ADDRESS=Klausenberg 6\, Augsburg\, 
 86199\, Deutschland;X-APPLE-RADIUS=100;X-TITLE=Kurhaus Göggingen:geo:48.3
 420399,10.8698601
END:VEVENT
BEGIN:VTIMEZONE
TZID:Africa/Abidjan
X-LIC-LOCATION:Africa/Abidjan
BEGIN:STANDARD
DTSTART:20230624T193000
TZOFFSETFROM:+0000
TZOFFSETTO:+0000
TZNAME:GMT
END:STANDARD
END:VTIMEZONE
END:VCALENDAR