BEGIN:VCALENDAR
VERSION:2.0
PRODID:-//wp-events-plugin.com//7.2.2.1//EN
BEGIN:VEVENT
UID:92@vivid-curls.de
DTSTART:20180626T180000Z
DTEND:20180626T203000Z
DTSTAMP:20180613T110718Z
URL:https://www.vivid-curls.de/events/memminger-meile-hueetlin-roeck-muehl
 e/
SUMMARY:Memminger Meile - Hüetlin & Roeck Mühle
DESCRIPTION:Duokonzert im Rahmen der Memminger Meile 2018\n\n&nbsp\;\n\nWir
  freuen uns sehr in diesem Jahr wieder einmal dabei zu sein und erinnern u
 ns so gerne an die Auftritte beim Memminger Folkfestival.\n\nBitte schne
 llstmöglich die Karten reservieren\, es gibt nur eine begrenzte Anzahl an
  Karten.\n\nWeitere Infos und VVK: https://meile.memmingen.de/3274.html\n\
 n&nbsp\;\n\nLiebe Grüße....Irene &amp\; Inka
ATTACH;FMTTYPE=image/jpeg:https://www.vivid-curls.de/wp-content/uploads/20
 17/05/BBA_Vivid_Curls086.jpeg
CATEGORIES:Konzerte
LOCATION:Hüetlin & Roeck Mühle\, Donaustr. 38\, Memmingen\, 87700\, Deuts
 chland
GEO:47.9934504;10.180557700000008
X-APPLE-STRUCTURED-LOCATION;VALUE=URI;X-ADDRESS=Donaustr. 38\, Memmingen\, 
 87700\, Deutschland;X-APPLE-RADIUS=100;X-TITLE=Hüetlin & Roeck Mühle:geo
 :47.9934504,10.180557700000008
END:VEVENT
END:VCALENDAR