BEGIN:VCALENDAR
VERSION:2.0
PRODID:-//wp-events-plugin.com//7.2.2.1//EN
BEGIN:VEVENT
UID:296@vivid-curls.de
DTSTART;TZID=Europe/Berlin:20251010T200000
DTEND;TZID=Europe/Berlin:20251010T223000
DTSTAMP:20250929T152453Z
URL:https://www.vivid-curls.de/events/lindenkeller-freising-mit-band/
SUMMARY:Lindenkeller - Freising mit Band - VERLEGT auf den 13.02.26
DESCRIPTION:Wir spielen mit unserer fabelhaften Band und freuen uns auf ein
  Wiedersehen!\n\nKarten und weitere Infos: www.lindenkeller-freising.de\n\
 nIrene &amp\; Inka
ATTACH;FMTTYPE=image/jpeg:https://www.vivid-curls.de/wp-content/uploads/20
 24/03/20231105_072145_679-scaled.jpg
CATEGORIES:Konzerte
LOCATION:Lindenkeller Freising\, Veitsmüllerweg 2\, 85354 Freising\, 85354
 \, Deutschland
GEO:48.3976423;11.737715500000036
X-APPLE-STRUCTURED-LOCATION;VALUE=URI;X-ADDRESS=Veitsmüllerweg 2\, 85354 F
 reising\, 85354\, Deutschland;X-APPLE-RADIUS=100;X-TITLE=Lindenkeller Frei
 sing:geo:48.3976423,11.737715500000036
END:VEVENT
BEGIN:VTIMEZONE
TZID:Europe/Berlin
X-LIC-LOCATION:Europe/Berlin
BEGIN:DAYLIGHT
DTSTART:20250330T030000
TZOFFSETFROM:+0100
TZOFFSETTO:+0200
TZNAME:CEST
END:DAYLIGHT
END:VTIMEZONE
END:VCALENDAR