BEGIN:VCALENDAR
VERSION:2.0
PRODID:-//wp-events-plugin.com//7.2.2.1//EN
BEGIN:VEVENT
UID:308@vivid-curls.de
DTSTART;TZID=Europe/Berlin:20251207T180000
DTEND;TZID=Europe/Berlin:20251207T203000
DTSTAMP:20251112T150403Z
URL:https://www.vivid-curls.de/events/lindenberg-kulturboden-schneeflocken
 nacht-mit-martina-noichl-hedwig-roth/
SUMMARY:Lindenberg - Kulturfabrik - SCHNEEFLOCKENNACHT mit Martina Noichl &
  Hedwig Roth - ausverkauft
DESCRIPTION:Auf in die letzte Runde!\n\nDreistimmige Jodler\, Gitarren\, wu
 ndervolle Harfenklänge und die schönsten Weihnachtslieder...taucht mit u
 ns ein\, in den Zauber einer magischen Schneeflockennacht!\n\nJa\, es leuc
 hten Wunder in dieser ganz besonderen Zeit.\n\nKarten und weitere Infos un
 ter: kulturfabrik@lindenberg.de oder www.lindenberg.de\n\nWir freuen uns a
 uf euch!\n\nIrene &amp\; Inka
ATTACH;FMTTYPE=image/jpeg:https://www.vivid-curls.de/wp-content/uploads/20
 20/10/Schneeflockennacht_Cover_2020_1400x1400px-scaled.jpg
CATEGORIES:Konzerte
END:VEVENT
BEGIN:VTIMEZONE
TZID:Europe/Berlin
X-LIC-LOCATION:Europe/Berlin
BEGIN:STANDARD
DTSTART:20251026T020000
TZOFFSETFROM:+0200
TZOFFSETTO:+0100
TZNAME:CET
END:STANDARD
END:VTIMEZONE
END:VCALENDAR