BEGIN:VCALENDAR
VERSION:2.0
PRODID:-//wp-events-plugin.com//7.2.2.1//EN
BEGIN:VEVENT
UID:304@vivid-curls.de
DTSTART;TZID=Europe/Berlin:20251203T200000
DTEND;TZID=Europe/Berlin:20251203T223000
DTSTAMP:20251128T133555Z
URL:https://www.vivid-curls.de/events/kurhaus-oberstdorf-schneeflockennach
 t-mit-martina-noichl-hedwig-roth/
SUMMARY:Kurhaus - Oberstdorf - SCHNEEFLOCKENNACHT mit Martina Noichl & Hedw
 ig Roth
DESCRIPTION:Auf in die letzte Runde!\n\nDreistimmige Jodler\, Gitarren\, wu
 ndervolle Harfenklänge und die schönsten Weihnachtslieder...taucht mit u
 ns ein in den Zauber einer magischen Schneeflockennacht!\n\nJa\, es leucht
 en Wunder in dieser ganz besonderen Zeit.\n\nKarten und weitere Infos: www
 .eventim.de\n\nhttps://www.eventim.de/event/vivid-curls-oberstdorf-haus-20
 384330/?srsltid=AfmBOopsUCDwwZjL7irk2LIwI1ejEVu0zaYw7yXW6LnNLAEa4gkhRiNp\n
 \nWir freuen uns auf euch!\n\nIrene &amp\; Inka
ATTACH;FMTTYPE=image/jpeg:https://www.vivid-curls.de/wp-content/uploads/20
 20/10/Schneeflockennacht_Cover_2020_1400x1400px-scaled.jpg
CATEGORIES:Konzerte
LOCATION:Kurhaus Oberstdorf\, Marktplatz 7\, Oberstdorf\, 87561\, Deutschla
 nd
GEO:47.40793;10.278069899999991
X-APPLE-STRUCTURED-LOCATION;VALUE=URI;X-ADDRESS=Marktplatz 7\, Oberstdorf\,
  87561\, Deutschland;X-APPLE-RADIUS=100;X-TITLE=Kurhaus Oberstdorf:geo:47.
 40793,10.278069899999991
END:VEVENT
BEGIN:VTIMEZONE
TZID:Europe/Berlin
X-LIC-LOCATION:Europe/Berlin
BEGIN:STANDARD
DTSTART:20251026T020000
TZOFFSETFROM:+0200
TZOFFSETTO:+0100
TZNAME:CET
END:STANDARD
END:VTIMEZONE
END:VCALENDAR