BEGIN:VCALENDAR
VERSION:2.0
PRODID:-//wp-events-plugin.com//7.2.2.1//EN
BEGIN:VEVENT
UID:307@vivid-curls.de
DTSTART;TZID=Europe/Berlin:20251230T193000
DTEND;TZID=Europe/Berlin:20251230T220000
DTSTAMP:20251229T101912Z
URL:https://www.vivid-curls.de/events/kurhaus-goeggingen-augsburg-schneefl
 ockennacht-mit-martina-noichl-hedwig-roth/
SUMMARY:Kurhaus - Göggingen/Augsburg - SCHNEEFLOCKENNACHT mit Martina Noic
 hl & Hedwig Roth - ausverkauft
DESCRIPTION:Auf in die letzte Runde!\n\nDreistimmige Jodler\, Gitarren\, wu
 ndervolle Harfenklänge und die schönsten Weihnachtslieder...taucht mit u
 ns ein in den Zauber einer magischen Schneeflockennacht!\n\nJa\, es leucht
 en Wunder in dieser ganz besonderen Zeit.\n\nKarten und weitere Infos: www
 .parktheater.de\n\nWir freuen uns auf euch!\n\nIrene &amp\; Inka
ATTACH;FMTTYPE=image/jpeg:https://www.vivid-curls.de/wp-content/uploads/20
 20/10/Schneeflockennacht_Cover_2020_1400x1400px-scaled.jpg
CATEGORIES:Konzerte
LOCATION:Kurhaus Göggingen\, Klausenberg 6\, Augsburg\, 86199\, Deutschlan
 d
GEO:48.3420399;10.8698601
X-APPLE-STRUCTURED-LOCATION;VALUE=URI;X-ADDRESS=Klausenberg 6\, Augsburg\, 
 86199\, Deutschland;X-APPLE-RADIUS=100;X-TITLE=Kurhaus Göggingen:geo:48.3
 420399,10.8698601
END:VEVENT
BEGIN:VTIMEZONE
TZID:Europe/Berlin
X-LIC-LOCATION:Europe/Berlin
BEGIN:STANDARD
DTSTART:20251026T020000
TZOFFSETFROM:+0200
TZOFFSETTO:+0100
TZNAME:CET
END:STANDARD
END:VTIMEZONE
END:VCALENDAR