BEGIN:VCALENDAR
VERSION:2.0
PRODID:-//wp-events-plugin.com//7.2.2.1//EN
BEGIN:VEVENT
UID:299@vivid-curls.de
DTSTART;TZID=Europe/Berlin:20250529T200000
DTEND;TZID=Europe/Berlin:20250529T221500
DTSTAMP:20250528T151825Z
URL:https://www.vivid-curls.de/events/kulturstadel-vilgertshofen/
SUMMARY:Kulturstadel - Vilgertshofen - AUSVERKAUFT
DESCRIPTION:Wir spielen die Songs von Simon &amp\; Garfunkel\, Fleetwood Ma
 c\, Carole King\, Dolly Parton\, Sting\, Peter Gabriel...Songs\, die unver
 gesslich sind und die wir immer lieben werden!\n\nWir laden euch ein - kom
 mt mit uns mit - wir drehen die Zeit zurück!\n\nVVK und weitere Infos: ww
 w.kultur-stadl.de oder Tel.: 0 81 94/9 31 59 86\n\nWir freuen uns auf euch
 !\n\nIrene &amp\; Inka
ATTACH;FMTTYPE=image/jpeg:https://www.vivid-curls.de/wp-content/uploads/20
 17/01/VividCurlsHeaderbild-bearbeitet-2-DSC_1724.jpg
CATEGORIES:Konzerte
LOCATION:Kulturstadl\, Raiffeisenstr. 2\, Vilgertshofen\, 86946\, Deutschla
 nd
GEO:47.9632803;10.907720599999947
X-APPLE-STRUCTURED-LOCATION;VALUE=URI;X-ADDRESS=Raiffeisenstr. 2\, Vilgerts
 hofen\, 86946\, Deutschland;X-APPLE-RADIUS=100;X-TITLE=Kulturstadl:geo:47.
 9632803,10.907720599999947
END:VEVENT
BEGIN:VTIMEZONE
TZID:Europe/Berlin
X-LIC-LOCATION:Europe/Berlin
BEGIN:DAYLIGHT
DTSTART:20250330T030000
TZOFFSETFROM:+0100
TZOFFSETTO:+0200
TZNAME:CEST
END:DAYLIGHT
END:VTIMEZONE
END:VCALENDAR