BEGIN:VCALENDAR
VERSION:2.0
PRODID:-//wp-events-plugin.com//7.2.2.1//EN
BEGIN:VEVENT
UID:279@vivid-curls.de
DTSTART;TZID=Europe/Berlin:20240511T200000
DTEND;TZID=Europe/Berlin:20240511T221500
DTSTAMP:20240405T111255Z
URL:https://www.vivid-curls.de/events/kulturkreis-boos-boos/
SUMMARY:Kulturkreis Boos - Dorfgemeinschaftshaus
DESCRIPTION:NOCH IMMER - 22 Jahre Vivid Curls\n\nUnsere Konzerte sind ein m
 oderner Trip zurück in die Zeit handgemachter\, ehrlicher Gitarrenmusik\,
  gänsehauttreibendem Harmoniegesang\, Tiefgang\, Vision und Lebensfreude.
 \n\n22 Jahre machen es uns zum Anliegen zurückzublicken:\n\nEs war eine i
 ntensive und bewegte Zeit\, voller Leidenschaft für die Musik\, voller "K
 inder\, Küche und Karriere"\, voller Höhenflüge und Tiefschläge und do
 ch immer wundervoll gewesene 22 Jahre.\n\nWir lassen euch an unseren Gesch
 ichten aus dem Leben\, an unseren Träumen\, geplatzten und erfüllten\, t
 eilhaben und laden euch ein zu einem Abend mit den bedeutendsten Vivid Cur
 ls Songs und Liedern von unserem neuen Album NOCH IMMER.\n\nIrene &amp\; I
 nka
ATTACH;FMTTYPE=image/jpeg:https://www.vivid-curls.de/wp-content/uploads/20
 24/03/klein-NEU_Druck_Final_CD_Digipack.jpg
CATEGORIES:Konzerte
LOCATION:Dorfgemeinschaftshaus Boos\, Raiffeisenplatz 4\, Boos\, 87737\, De
 utschland
X-APPLE-STRUCTURED-LOCATION;VALUE=URI;X-ADDRESS=Raiffeisenplatz 4\, Boos\, 
 87737\, Deutschland;X-APPLE-RADIUS=100;X-TITLE=Dorfgemeinschaftshaus Boos:
 geo:0,0
END:VEVENT
BEGIN:VTIMEZONE
TZID:Europe/Berlin
X-LIC-LOCATION:Europe/Berlin
BEGIN:DAYLIGHT
DTSTART:20240331T030000
TZOFFSETFROM:+0100
TZOFFSETTO:+0200
TZNAME:CEST
END:DAYLIGHT
END:VTIMEZONE
END:VCALENDAR