BEGIN:VCALENDAR
VERSION:2.0
PRODID:-//wp-events-plugin.com//7.2.2.1//EN
BEGIN:VEVENT
UID:70@vivid-curls.de
DTSTART:20180616T180000Z
DTEND:20180616T204500Z
DTSTAMP:20171113T095115Z
URL:https://www.vivid-curls.de/events/kulturgewaechshaus-birkenried-mit-sa
 rah-straub/
SUMMARY:Kulturgewächshaus Birkenried mit Sarah Straub
DESCRIPTION:3 Stimmen\, Gitarre\, Klavier und eine Auswahl unserer schönst
 en Songs....ein Traum!\n\n&nbsp\;\n\nKarten und weitere Infos: www.birkenr
 ied.de o. Tel.: 08221/24208
ATTACH;FMTTYPE=image/jpeg:https://www.vivid-curls.de/wp-content/uploads/20
 15/05/vivid-curls_sarah-straub.jpg
CATEGORIES:Konzerte
LOCATION:Gewächshaus Birkenried\, Birkenried 5\, Gundelfingen\, 89423\, De
 utschland
GEO:48.49909;10.307700000000068
X-APPLE-STRUCTURED-LOCATION;VALUE=URI;X-ADDRESS=Birkenried 5\, Gundelfingen
 \, 89423\, Deutschland;X-APPLE-RADIUS=100;X-TITLE=Gewächshaus Birkenried:
 geo:48.49909,10.307700000000068
END:VEVENT
END:VCALENDAR