BEGIN:VCALENDAR
VERSION:2.0
PRODID:-//wp-events-plugin.com//7.2.2.1//EN
BEGIN:VEVENT
UID:271@vivid-curls.de
DTSTART;TZID=Africa/Abidjan:20240608T203000
DTEND;TZID=Africa/Abidjan:20240608T224500
DTSTAMP:20240404T152326Z
URL:https://www.vivid-curls.de/events/kulturgewaechshaus-birkenried-2/
SUMMARY:Kulturgewächshaus - Birkenried
DESCRIPTION:NOCH IMMER - 22 Jahre Vivid Curls\n\nUnsere Konzerte sind ein m
 oderner Trip zurück in die Zeit handgemachter\, ehrlicher Gitarrenmusik\,
  gänsehauttreibendem Harmoniegesang\, Tiefgang\, Vision und Lebensfreude.
 \n\n22 Jahre machen es uns zum Anliegen zurückzublicken:\n\nEs war eine i
 ntensive und bewegte Zeit\, voller Leidenschaft für die Musik\, voller "K
 inder\, Küche und Karriere"\, voller Höhenflüge und Tiefschläge und do
 ch immer wundervoll gewesene 22 Jahre.\n\nWir lassen euch an unseren Gesch
 ichten aus dem Leben\, an unseren Träumen\, geplatzten und erfüllten\, t
 eilhaben und laden euch ein zu einem Abend mit den bedeutendsten Vivid Cur
 ls Songs und Liedern von unserem neuen Album NOCH IMMER.\n\nDuokonzert im 
 Rahmen unserer NOCH IMMER Tour...wir freuen uns auf ein Wiedersehen!\n\nW
 eitere Infos und Karten findet ihr hier: www.birkenried.de\n\nIrene &amp\;
  Inka\n\n&nbsp\;\n\nIrene &amp\; Inka
ATTACH;FMTTYPE=image/jpeg:https://www.vivid-curls.de/wp-content/uploads/20
 23/07/BBA_Vivid_Curls090-2-scaled.jpg
CATEGORIES:Konzerte
LOCATION:Gewächshaus Birkenried\, Birkenried 5\, Gundelfingen\, 89423\, De
 utschland
GEO:48.49909;10.307700000000068
X-APPLE-STRUCTURED-LOCATION;VALUE=URI;X-ADDRESS=Birkenried 5\, Gundelfingen
 \, 89423\, Deutschland;X-APPLE-RADIUS=100;X-TITLE=Gewächshaus Birkenried:
 geo:48.49909,10.307700000000068
END:VEVENT
BEGIN:VTIMEZONE
TZID:Africa/Abidjan
X-LIC-LOCATION:Africa/Abidjan
BEGIN:STANDARD
DTSTART:20230609T203000
TZOFFSETFROM:+0000
TZOFFSETTO:+0000
TZNAME:GMT
END:STANDARD
END:VTIMEZONE
END:VCALENDAR