BEGIN:VCALENDAR
VERSION:2.0
PRODID:-//wp-events-plugin.com//7.2.2.1//EN
BEGIN:VEVENT
UID:292@vivid-curls.de
DTSTART;TZID=Europe/Berlin:20250322T200000
DTEND;TZID=Europe/Berlin:20250322T221500
DTSTAMP:20250117T172700Z
URL:https://www.vivid-curls.de/events/kulturgasthof-engel-dornstetten/
SUMMARY:Kulturgasthof Engel - Dornstetten
DESCRIPTION:Wir spielen im Rahmen unserer NOCH IMMER Tour und freuen uns au
 f euch!\n\nWeitere Infos unter: www.engel-dornstetten.de\n\nIrene &amp\; I
 nka
ATTACH;FMTTYPE=image/jpeg:https://www.vivid-curls.de/wp-content/uploads/20
 24/03/klein-NEU_Druck_Final_CD_Digipack.jpg
CATEGORIES:Konzerte
LOCATION:Kulturgasthof Engel - Dornstetten\, Hauptstrasse 9\, Dornstetten\,
  72280\, Deutschland
X-APPLE-STRUCTURED-LOCATION;VALUE=URI;X-ADDRESS=Hauptstrasse 9\, Dornstette
 n\, 72280\, Deutschland;X-APPLE-RADIUS=100;X-TITLE=Kulturgasthof Engel - D
 ornstetten:geo:0,0
END:VEVENT
BEGIN:VTIMEZONE
TZID:Europe/Berlin
X-LIC-LOCATION:Europe/Berlin
BEGIN:STANDARD
DTSTART:20241027T020000
TZOFFSETFROM:+0200
TZOFFSETTO:+0100
TZNAME:CET
END:STANDARD
END:VTIMEZONE
END:VCALENDAR