BEGIN:VCALENDAR
VERSION:2.0
PRODID:-//wp-events-plugin.com//7.2.2.1//EN
BEGIN:VEVENT
UID:266@vivid-curls.de
DTSTART;TZID=Africa/Abidjan:20240505T193000
DTEND;TZID=Africa/Abidjan:20240505T214500
DTSTAMP:20240404T141620Z
URL:https://www.vivid-curls.de/events/kuhstall-schwabbruck-3/
SUMMARY:Kuhstall - Schwabbruck
DESCRIPTION:NOCH IMMER - 22 Jahre Vivid Curls\n\nUnsere Konzerte sind ein m
 oderner Trip zurück in die Zeit handgemachter\, ehrlicher Gitarrenmusik\,
  gänsehauttreibendem Harmoniegesang\, Tiefgang\, Vision und Lebensfreude.
 \n\n22 Jahre machen es uns zum Anliegen zurückzublicken:\n\nEs war eine i
 ntensive und bewegte Zeit\, voller Leidenschaft für die Musik\, voller "K
 inder\, Küche und Karriere"\, voller Höhenflüge und Tiefschläge und do
 ch immer wundervoll gewesene 22 Jahre.\n\nWir lassen euch an unseren Gesch
 ichten aus dem Leben\, an unseren Träumen\, geplatzten und erfüllten\, t
 eilhaben und laden euch ein zu einem Abend mit den bedeutendsten Vivid Cur
 ls Songs und Liedern von unserem neuen Album NOCH IMMER.\n\nKarten und wei
 tere Infos: www.schaeferwirt.de\n\nIrene &amp\; Inka
ATTACH;FMTTYPE=image/jpeg:https://www.vivid-curls.de/wp-content/uploads/20
 23/07/BBA_Vivid_Curls090-2-scaled.jpg
CATEGORIES:Konzerte
LOCATION:Kuhstall Schwabbruck\, Schaeferweg 1\, 86986 Schwabbruck\, Deutsch
 land
GEO:47.82396;10.835080000000062
X-APPLE-STRUCTURED-LOCATION;VALUE=URI;X-ADDRESS=Schaeferweg 1\, 86986 Schwa
 bbruck\, Deutschland;X-APPLE-RADIUS=100;X-TITLE=Kuhstall Schwabbruck:geo:4
 7.82396,10.835080000000062
END:VEVENT
BEGIN:VTIMEZONE
TZID:Africa/Abidjan
X-LIC-LOCATION:Africa/Abidjan
BEGIN:STANDARD
DTSTART:20230506T193000
TZOFFSETFROM:+0000
TZOFFSETTO:+0000
TZNAME:GMT
END:STANDARD
END:VTIMEZONE
END:VCALENDAR