BEGIN:VCALENDAR
VERSION:2.0
PRODID:-//wp-events-plugin.com//7.2.2.1//EN
BEGIN:VEVENT
UID:54@vivid-curls.de
DTSTART:20180223T180000Z
DTEND:20180223T210000Z
DTSTAMP:20180116T200751Z
URL:https://www.vivid-curls.de/events/kresslesmuehle-augsburg/
SUMMARY:Kresslesmühle Augsburg
DESCRIPTION:Tickets unter www.kresslesmuehle.de oder 0821-37170\n\nDuokonze
 rt
ATTACH;FMTTYPE=image/jpeg:https://www.vivid-curls.de/wp-content/uploads/20
 17/01/VividCurlsHeaderbild-verbessert-retuschiert-3-DSC_1724-e154957785651
 9.jpg
CATEGORIES:Konzerte
LOCATION:Kresslesmühle Augsburg\, Barfüßerstr. 4\, 86150 Augsburg\, Deut
 schland
GEO:48.3693612;10.899841700000025
X-APPLE-STRUCTURED-LOCATION;VALUE=URI;X-ADDRESS=Barfüßerstr. 4\, 86150 Au
 gsburg\, Deutschland;X-APPLE-RADIUS=100;X-TITLE=Kresslesmühle Augsburg:ge
 o:48.3693612,10.899841700000025
END:VEVENT
END:VCALENDAR