BEGIN:VCALENDAR
VERSION:2.0
PRODID:-//wp-events-plugin.com//7.2.2.1//EN
BEGIN:VEVENT
UID:314@vivid-curls.de
DTSTART;TZID=Europe/Berlin:20260415T193000
DTEND;TZID=Europe/Berlin:20260415T220000
DTSTAMP:20260415T112525Z
URL:https://www.vivid-curls.de/events/kornhaus-kempten-sounds-of-silence/
SUMMARY:Kornhaus - Kempten - SOUNDS OF SILENCE - AUSVERKAUFT - RESTKARTEN a
 n der ABENDKASSE
DESCRIPTION:Juchuuu - ausverkauft - es gibt noch ein paar Restkarten an der
  Abendkasse!\n\nWir spielen die Songs von Simon &amp\; Garfunkel\, Fleetwo
 od Mac\, Carole King\, Dolly Parton\, Sting\, Peter Gabriel...Songs\, die 
 unvergesslich sind und die wir immer lieben werden! Wir laden euch ein\, k
 ommt mit uns mit - wir drehen die Zeit zurück! VVK ganz easy\, einfach Em
 ail an: vividinka@gmx.de oder direkt vor Ort beim Musikhaus Rimmel in Kemp
 ten\, Poststraße 7-9.\nWeitere VVK-Stelle: Stadelmann Natur - Ermengerst\
 nWir freuen uns auf euch...Irene &amp\; Inka
ATTACH;FMTTYPE=image/jpeg:https://www.vivid-curls.de/wp-content/uploads/20
 25/09/DSC_1738.jpg
CATEGORIES:Konzerte
LOCATION:Kornhaus Kempten\, Großer Kornhauspl. 1\, Kempten\, Bayern\,  874
 39\, Allgäu\, Deutschland
X-APPLE-STRUCTURED-LOCATION;VALUE=URI;X-ADDRESS=Großer Kornhauspl. 1\, Kem
 pten\, Bayern\,  87439\, Allgäu\, Deutschland;X-APPLE-RADIUS=100;X-TITLE=
 Kornhaus Kempten:geo:0,0
END:VEVENT
BEGIN:VTIMEZONE
TZID:Europe/Berlin
X-LIC-LOCATION:Europe/Berlin
BEGIN:DAYLIGHT
DTSTART:20260329T030000
TZOFFSETFROM:+0100
TZOFFSETTO:+0200
TZNAME:CEST
END:DAYLIGHT
END:VTIMEZONE
END:VCALENDAR