BEGIN:VCALENDAR
VERSION:2.0
PRODID:-//wp-events-plugin.com//7.2.2.1//EN
BEGIN:VEVENT
UID:298@vivid-curls.de
DTSTART;TZID=Europe/Berlin:20251204T193000
DTEND;TZID=Europe/Berlin:20251204T214500
DTSTAMP:20250409T131057Z
URL:https://www.vivid-curls.de/events/komoedienhaus-biberach-noch-immer/
SUMMARY:Komödienhaus - Biberach - NOCH IMMER
DESCRIPTION:Wir spielen im Rahmen unserer NOCH IMMER TOUR und freuen uns au
 f ein Wiedersehen im Komödienhaus.\n\nVVK und weitere Infos: Tel.: 0 73 5
 1/5 14 36\n\n&nbsp\;\n\nIrene &amp\; Inka
ATTACH;FMTTYPE=image/jpeg:https://www.vivid-curls.de/wp-content/uploads/20
 24/03/klein-NEU_Druck_Final_CD_Digipack.jpg
CATEGORIES:Konzerte
LOCATION:Komödienhaus\, Viehmarkstr. 10\, Biberach\, Deutschland
GEO:48.09749859999999;9.790953400000001
X-APPLE-STRUCTURED-LOCATION;VALUE=URI;X-ADDRESS=Viehmarkstr. 10\, Biberach\
 , Deutschland;X-APPLE-RADIUS=100;X-TITLE=Komödienhaus:geo:48.097498599999
 99,9.790953400000001
END:VEVENT
BEGIN:VTIMEZONE
TZID:Europe/Berlin
X-LIC-LOCATION:Europe/Berlin
BEGIN:STANDARD
DTSTART:20251026T020000
TZOFFSETFROM:+0200
TZOFFSETTO:+0100
TZNAME:CET
END:STANDARD
END:VTIMEZONE
END:VCALENDAR