BEGIN:VCALENDAR
VERSION:2.0
PRODID:-//wp-events-plugin.com//7.2.2.1//EN
BEGIN:VEVENT
UID:280@vivid-curls.de
DTSTART;TZID=Europe/Berlin:20240718T200000
DTEND;TZID=Europe/Berlin:20240718T221500
DTSTAMP:20240405T110529Z
URL:https://www.vivid-curls.de/events/immenstaedter-sommer-klostergarten-m
 it-band/
SUMMARY:Immenstädter Sommer - Klostergarten - mit Band
DESCRIPTION:NOCH IMMER - 22 Jahre Vivid Curls\n\nUnsere Konzerte sind ein m
 oderner Trip zurück in die Zeit handgemachter\, ehrlicher Gitarrenmusik\,
  gänsehauttreibendem Harmoniegesang\, Tiefgang\, Vision und Lebensfreude.
  22 Jahre machen es uns zum Anliegen zurückzublicken:\n\nEs war eine inte
 nsive und bewegte Zeit\, voller Leidenschaft für die Musik\, voller "Kind
 er\, Küche und Karriere"\, voller Höhenflüge und Tiefschläge und doch 
 immer wundervoll gewesene 22 Jahre. Wir lassen euch an unseren Geschichten
  aus dem Leben\, an unseren Träumen\, geplatzten und erfüllten\, teilhab
 en und laden euch ein zu einem Abend mit den bedeutendsten Vivid Curls Son
 gs und Liedern von unserem neuen Album NOCH IMMER.\n\nGemeinsam mit unsere
 r fabelhaften Band:\n\nMarkus Wohner (Schlagzeug)\, Helmuth Baumann (Bass)
 \, Dirk Horeth (Gitarre)\n\nfreuen wir uns auf einen lauen Sommerabend mit
  euch!\n\nIrene &amp\; Inka\n\n&nbsp\;
ATTACH;FMTTYPE=image/jpeg:https://www.vivid-curls.de/wp-content/uploads/20
 24/03/20231105_072145_679-scaled.jpg
CATEGORIES:Konzerte
END:VEVENT
BEGIN:VTIMEZONE
TZID:Europe/Berlin
X-LIC-LOCATION:Europe/Berlin
BEGIN:DAYLIGHT
DTSTART:20240331T030000
TZOFFSETFROM:+0100
TZOFFSETTO:+0200
TZNAME:CEST
END:DAYLIGHT
END:VTIMEZONE
END:VCALENDAR