BEGIN:VCALENDAR
VERSION:2.0
PRODID:-//wp-events-plugin.com//7.2.2.1//EN
BEGIN:VEVENT
UID:93@vivid-curls.de
DTSTART:20180722T160000Z
DTEND:20180722T183000Z
DTSTAMP:20180719T180708Z
URL:https://www.vivid-curls.de/events/hoffest-demeterhof-grasser/
SUMMARY:Hoffest - Demeterhof Grasser
DESCRIPTION:Duokonzert beim wunderschönen Hoffest.\n\nWir freuen uns sehr 
 und hoffen ihr seid dabei!\n\n&nbsp\;\n\nLiebe Grüße....Irene &amp\; Ink
 a
ATTACH;FMTTYPE=image/jpeg:https://www.vivid-curls.de/wp-content/uploads/20
 16/12/AusgabeLR-klein-1579.jpg
CATEGORIES:Konzerte
LOCATION:Grasser Hof\,  Wenglinger Str. 2\, Aitrang\, 87648\, Deutschland
GEO:47.82839;10.539790000000039
X-APPLE-STRUCTURED-LOCATION;VALUE=URI;X-ADDRESS= Wenglinger Str. 2\, Aitran
 g\, 87648\, Deutschland;X-APPLE-RADIUS=100;X-TITLE=Grasser Hof:geo:47.8283
 9,10.539790000000039
END:VEVENT
END:VCALENDAR