BEGIN:VCALENDAR
VERSION:2.0
PRODID:-//wp-events-plugin.com//7.2.2.1//EN
BEGIN:VEVENT
UID:116@vivid-curls.de
DTSTART:20190705T173000Z
DTEND:20190705T200000Z
DTSTAMP:20190516T094738Z
URL:https://www.vivid-curls.de/events/handwebtenne-thalkirchdorf/
SUMMARY:Handwebtenne - Thalkirchdorf
DESCRIPTION:Duokonzert in der wunderschönen Handwebtenne.\n\nLang\, lang i
 st es her....wir freuen uns sehr auf ein Wiedersehen!a\n\nKarten und weite
 re Infos: Tel.: 08325/922-0 oder info(at)aht-teppiche.de\n\n&nbsp\;\n\nIre
 ne &amp\; Inka
ATTACH;FMTTYPE=image/jpeg:https://www.vivid-curls.de/wp-content/uploads/20
 17/05/BBA_Vivid_Curls086.jpeg
CATEGORIES:Konzerte
LOCATION:Handwebtenne Thalkirchdorf\, Salzstr. 7-11\, Oberstaufen\, 87534\,
  Deutschland
GEO:47.5551836;10.06152940000004
X-APPLE-STRUCTURED-LOCATION;VALUE=URI;X-ADDRESS=Salzstr. 7-11\, Oberstaufen
 \, 87534\, Deutschland;X-APPLE-RADIUS=100;X-TITLE=Handwebtenne Thalkirchdo
 rf:geo:47.5551836,10.06152940000004
END:VEVENT
END:VCALENDAR