BEGIN:VCALENDAR
VERSION:2.0
PRODID:-//wp-events-plugin.com//7.2.2.1//EN
BEGIN:VEVENT
UID:18@vivid-curls.de
DTSTART:20170407T180000Z
DTEND:20170407T203000Z
DTSTAMP:20170329T211157Z
URL:https://www.vivid-curls.de/events/floessermuseum-lechbruck/
SUMMARY:Flößermuseum\, Lechbruck
DESCRIPTION:Duokonzert wie immer im Flößermuseum\n\nKlein und ganz intim
 \n\nKarten und Infos: 0 88 62 / 98 78 20 (Touristinfo Lechbruck)
ATTACH;FMTTYPE=image/jpeg:https://www.vivid-curls.de/wp-content/uploads/20
 16/12/AusgabeLR-klein-1579.jpg
CATEGORIES:Duokonzert
LOCATION:Lechbruck\, Weidach 10\, Lechbruck\, Deutschland
GEO:47.6980515;10.796136899999965
X-APPLE-STRUCTURED-LOCATION;VALUE=URI;X-ADDRESS=Weidach 10\, Lechbruck\, De
 utschland;X-APPLE-RADIUS=100;X-TITLE=Lechbruck:geo:47.6980515,10.796136899
 999965
END:VEVENT
END:VCALENDAR