BEGIN:VCALENDAR
VERSION:2.0
PRODID:-//wp-events-plugin.com//7.2.2.1//EN
BEGIN:VEVENT
UID:107@vivid-curls.de
DTSTART:20190222T180000Z
DTEND:20190222T203000Z
DTSTAMP:20181129T124152Z
URL:https://www.vivid-curls.de/events/floessermuseum-lechbruck-3/
SUMMARY:Flößermuseum Lechbruck
DESCRIPTION:Da unser Konzert in Nov. 2018 aus gesundheitlichen Gründen le
 ider abgesagt werden musste\, freuen wir uns\n\nsehr\, dass wir so zeitnah
  einen Ersatztermin gefunden haben.\n\nWir hoffen ihr seid dabei\, im wund
 erschönen Flößermuseum - klein und fein....fast wie im eigenen Wohnzimm
 er!\n\n&nbsp\;\n\nKarten und weitere Infos: Tel. 08862/987830
ATTACH;FMTTYPE=image/jpeg:https://www.vivid-curls.de/wp-content/uploads/20
 18/10/Herbstbild.jpg
CATEGORIES:Konzerte
LOCATION:Flößermuseum Lechbruck\, Weidach 10\, Lechbruck\, Deutschland
GEO:47.6980515;10.796136899999965
X-APPLE-STRUCTURED-LOCATION;VALUE=URI;X-ADDRESS=Weidach 10\, Lechbruck\, De
 utschland;X-APPLE-RADIUS=100;X-TITLE=Flößermuseum Lechbruck:geo:47.69805
 15,10.796136899999965
END:VEVENT
END:VCALENDAR