BEGIN:VCALENDAR
VERSION:2.0
PRODID:-//wp-events-plugin.com//7.2.2.1//EN
BEGIN:VEVENT
UID:95@vivid-curls.de
DTSTART:20181109T180000Z
DTEND:20181109T203000Z
DTSTAMP:20181109T101332Z
URL:https://www.vivid-curls.de/events/floessermuseum-lechbruck-2/
SUMMARY:++ENTFÄLLT++ Flößermuseum - Lechbruck
DESCRIPTION:Aus gesundheitlichen Gründen\, müssen wir das Konzert heute A
 bend im Flößermuseum in Lechbruck leider absagen!\n---------------------
 -----------------------------------\nDuokonzert im wunderschönen Flößer
 museum.\n\nGanz klein\, ganz fein und wir freuen uns schon wieder auf dies
 en Abend.\n\nKarten vorab zu kaufen wäre sicherlich gut\, denn es ist wie
  gesagt klein und fein und schnell ausverkauft!\n\nVVK und weitere Infos: 
 www.lechbruck.de - info@lechbruck.de - Tel.08862/987830
ATTACH;FMTTYPE=image/jpeg:https://www.vivid-curls.de/wp-content/uploads/20
 14/02/2013-fotoshooting-04-scaled.jpg
CATEGORIES:Konzerte
LOCATION:Flößermuseum Lechbruck\, Weidach 10\, Lechbruck\, Deutschland
GEO:47.6980515;10.796136899999965
X-APPLE-STRUCTURED-LOCATION;VALUE=URI;X-ADDRESS=Weidach 10\, Lechbruck\, De
 utschland;X-APPLE-RADIUS=100;X-TITLE=Flößermuseum Lechbruck:geo:47.69805
 15,10.796136899999965
END:VEVENT
END:VCALENDAR