BEGIN:VCALENDAR
VERSION:2.0
PRODID:-//wp-events-plugin.com//7.2.2.1//EN
BEGIN:VEVENT
UID:289@vivid-curls.de
DTSTART;TZID=Europe/Berlin:20250309T193000
DTEND;TZID=Europe/Berlin:20250309T213000
DTSTAMP:20250110T074315Z
URL:https://www.vivid-curls.de/events/fiddlers-green-iris-pub-pfaffenhofen
 /
SUMMARY:Fiddler´s Green Iris Pub - Pfaffenhofen
DESCRIPTION:Wir spielen im Rahmen unserer NOCH IMMER Tour und haben bestimm
 t auch ein paar Songs von unserem SOUNDS OF SILENCE Projekt mit im Gepäck
 .\n\nWir freuen uns auf euch!\n\nKarten und weitere Infos findet ihr unter
 : http://fiddlersgreenpub.de
ATTACH;FMTTYPE=image/jpeg:https://www.vivid-curls.de/wp-content/uploads/20
 24/03/20231105_055542_644-scaled.jpg
CATEGORIES:Konzerte
LOCATION:Fiddler´s Green\, Volkertshofener Str. 7a\, Pfaffenhofen an der R
 oth\, 89284\, Deutschland
GEO:48.35090049999999;10.155570500000067
X-APPLE-STRUCTURED-LOCATION;VALUE=URI;X-ADDRESS=Volkertshofener Str. 7a\, P
 faffenhofen an der Roth\, 89284\, Deutschland;X-APPLE-RADIUS=100;X-TITLE=F
 iddler´s Green:geo:48.35090049999999,10.155570500000067
END:VEVENT
BEGIN:VTIMEZONE
TZID:Europe/Berlin
X-LIC-LOCATION:Europe/Berlin
BEGIN:STANDARD
DTSTART:20241027T020000
TZOFFSETFROM:+0200
TZOFFSETTO:+0100
TZNAME:CET
END:STANDARD
END:VTIMEZONE
END:VCALENDAR