BEGIN:VCALENDAR
VERSION:2.0
PRODID:-//wp-events-plugin.com//7.2.2.1//EN
BEGIN:VEVENT
UID:290@vivid-curls.de
DTSTART;TZID=Europe/Berlin:20250315T200000
DTEND;TZID=Europe/Berlin:20250315T220000
DTSTAMP:20250110T075424Z
URL:https://www.vivid-curls.de/events/eiskeller-pfronten-vorpremiere-sound
 s-of-silence/
SUMMARY:Eiskeller - Pfronten - Vorpremiere - Sounds of Silence
DESCRIPTION:Wir interpretieren die Songs unserer musikalischen Mütter und 
 Väter!\n\nSounds of Silence\n\n"Haben Simon und Garfunkel Töchter im All
 gäu?!" so titelte eine bekannte Zeitung vor geraumer Zeit und versetzte d
 em tief schlummernden Herzensprojekt damit den letzten Kick. Wir spielen d
 ie Songs von Simon &amp\; Garfunkel\, Carole King\, Fleetwood Mac\, Cat St
 evens....Songs\, die unvergesslich sind und die wir immer lieben werden.\n
 \nKommt mit uns mit\, wir laden euch ein.\n\nWir drehen die Zeit noch einm
 al zurück und tauchen ein in eine Welt\, die´s so nicht mehr gibt und de
 nnoch immer bleibt\, was und wie sie damals für uns war. Ein Teil von uns
 \, wegweisen und einfach wunderbar.\n\nKarten und weitere Infos:  https:/
 /www.pfronten.de/eiskeller/\n\nIrene &amp\; Inka
ATTACH;FMTTYPE=image/jpeg:https://www.vivid-curls.de/wp-content/uploads/20
 16/12/AusgabeLR-klein-1724.jpg
CATEGORIES:Konzerte
LOCATION:Eiskeller Pfronten\, Kirchsteige 1\, Pfronten\, Deutschland
GEO:47.5854678;10.558431299999938
X-APPLE-STRUCTURED-LOCATION;VALUE=URI;X-ADDRESS=Kirchsteige 1\, Pfronten\, 
 Deutschland;X-APPLE-RADIUS=100;X-TITLE=Eiskeller Pfronten:geo:47.5854678,1
 0.558431299999938
END:VEVENT
BEGIN:VTIMEZONE
TZID:Europe/Berlin
X-LIC-LOCATION:Europe/Berlin
BEGIN:STANDARD
DTSTART:20241027T020000
TZOFFSETFROM:+0200
TZOFFSETTO:+0100
TZNAME:CET
END:STANDARD
END:VTIMEZONE
END:VCALENDAR