BEGIN:VCALENDAR
VERSION:2.0
PRODID:-//wp-events-plugin.com//7.2.2.1//EN
BEGIN:VEVENT
UID:94@vivid-curls.de
DTSTART:20180727T184500Z
DTEND:20180727T210000Z
DTSTAMP:20180613T111740Z
URL:https://www.vivid-curls.de/events/einhaldenfestival-2018-fronhofen-mit
 -konstantin-wecker-band/
SUMMARY:Einhaldenfestival 2018 - Fronhofen - mit Konstantin Wecker & Band
DESCRIPTION:Wir freuen uns auf einen wunderbaren Abend mit Konstantin Wecke
 r und seiner fabelhaften Band.\n\nLiebe Grüße....Irene &amp\; Inka
ATTACH;FMTTYPE=image/jpeg:https://www.vivid-curls.de/wp-content/uploads/20
 18/06/BBA_Wecker_Konstantin210-scaled.jpg
CATEGORIES:Konzerte
LOCATION:Einhaldenfestival\, Geratsreute 7\, Fronhofen\, 88273\, Deutschlan
 d
GEO:47.85937;9.53765999999996
X-APPLE-STRUCTURED-LOCATION;VALUE=URI;X-ADDRESS=Geratsreute 7\, Fronhofen\,
  88273\, Deutschland;X-APPLE-RADIUS=100;X-TITLE=Einhaldenfestival:geo:47.8
 5937,9.53765999999996
END:VEVENT
END:VCALENDAR