BEGIN:VCALENDAR
VERSION:2.0
PRODID:-//wp-events-plugin.com//7.2.2.1//EN
BEGIN:VEVENT
UID:133@vivid-curls.de
DTSTART:20190322T180000Z
DTEND:20190322T210000Z
DTSTAMP:20190318T171552Z
URL:https://www.vivid-curls.de/events/eine-million-gegen-rechts-kaminwerk-
 memmingen/
SUMMARY:Eine Million gegen Rechts - Kaminwerk Memmingen
DESCRIPTION:Wir spielen als Duo mit 4 weiteren Bands bei der Veranstaltung 
 "Eine Million gegen Rechts". Infos &amp\; Tickets gibts hier
ATTACH;FMTTYPE=image/jpeg:https://www.vivid-curls.de/wp-content/uploads/20
 18/10/Herbstbild.jpg
CATEGORIES:Konzerte
LOCATION:Kaminwerk Memmingen\, Anschützstraße 1\, Memmingen\, Bayern\, 87
 700\, Deutschland
GEO:47.9744632;10.184316899999999
X-APPLE-STRUCTURED-LOCATION;VALUE=URI;X-ADDRESS=Anschützstraße 1\, Memmin
 gen\, Bayern\, 87700\, Deutschland;X-APPLE-RADIUS=100;X-TITLE=Kaminwerk Me
 mmingen:geo:47.9744632,10.184316899999999
END:VEVENT
END:VCALENDAR