BEGIN:VCALENDAR
VERSION:2.0
PRODID:-//wp-events-plugin.com//7.2.2.1//EN
BEGIN:VEVENT
UID:297@vivid-curls.de
DTSTART;TZID=Europe/Berlin:20251017T200000
DTEND;TZID=Europe/Berlin:20251017T223000
DTSTAMP:20250929T152534Z
URL:https://www.vivid-curls.de/events/club-20-friedberg/
SUMMARY:Club 20 - Friedberg - NOCH IMMER - VERLEGT auf den 27.06.2026
DESCRIPTION:Wir spielen im Rahmen unserer NOCH IMMER TOUR und freuen uns au
 f die Premiere im Club 20 in Friedberg.\n\nVVK und weitere Infos unter: ww
 w.club20-friedberg.de\n\nWir freuen uns auf euch!\n\nIrene &amp\; Inka
ATTACH;FMTTYPE=image/jpeg:https://www.vivid-curls.de/wp-content/uploads/20
 24/03/klein-NEU_Druck_Final_CD_Digipack.jpg
CATEGORIES:Konzerte
LOCATION:Club 20 - Friedberg\, Schmiedgasse 20\, Friedberg\, 86316\, Deutsc
 hland
X-APPLE-STRUCTURED-LOCATION;VALUE=URI;X-ADDRESS=Schmiedgasse 20\, Friedberg
 \, 86316\, Deutschland;X-APPLE-RADIUS=100;X-TITLE=Club 20 - Friedberg:geo:
 0,0
END:VEVENT
BEGIN:VTIMEZONE
TZID:Europe/Berlin
X-LIC-LOCATION:Europe/Berlin
BEGIN:DAYLIGHT
DTSTART:20250330T030000
TZOFFSETFROM:+0100
TZOFFSETTO:+0200
TZNAME:CEST
END:DAYLIGHT
END:VTIMEZONE
END:VCALENDAR