BEGIN:VCALENDAR
VERSION:2.0
PRODID:-//wp-events-plugin.com//7.2.2.1//EN
BEGIN:VEVENT
UID:115@vivid-curls.de
DTSTART:20191012T180000Z
DTEND:20191012T203000Z
DTSTAMP:20190923T093834Z
URL:https://www.vivid-curls.de/events/cd-praesentation-in-der-kultbox-in-k
 empten/
SUMMARY:CD-Präsentation in der kultBox in Kempten
DESCRIPTION:Nach 16 Jahren voller Hingabe\, Freude\, Mut und Leidenschaft f
 ür unsere Musik und deren Botschaften ist es endlich wieder soweit:\n\nAl
 bum Nummer 8 mit dem Titel: "...nicht müde werden!" wird an diesem Abend 
 in der kultBox in Kempten präsentiert.\n\nLasst uns nicht müde werden me
 nschlich zu sein.\n\nLasst uns nicht müde werden an unsere Träume zu gla
 uben.\n\nLasst uns nicht müde werden gute Musik zu machen.\n\nLasst uns 
 nicht müde werden unser Glück zu leben.\n\n&nbsp\;\n\nDas neue Album ent
 stand unter dem Eindruck der aktuellen Welt- und Gesellschaftslage und spi
 elgelt unsere ganz eigene Sicht der Dinge wider.\n\nEs wird aber auch wied
 er sehr persönlich.\n\nEine ausgewogene Mischung aus unplugged Songs und 
 Bandarrangements.\n\nEin Muss für alle Liebhaber von feinsinnigem Folk.\n
 \n&nbsp\;\n\nKarten gibt es allen VVK-Stellen der AZ oder hier:\n\nhttps:/
 /www.bigboxallgaeu.de/details/veranstaltungen/pop-singer-songwriter/2019/1
 0/vivid-curls\n\nWir freuen uns auf euch und diesen ganz besonderen Abend 
 mit einigen Überraschungen!\n\nIrene &amp\; Inka\n\n&nbsp\;\n\n&nbsp\;\n\
 n&nbsp\;
ATTACH;FMTTYPE=image/jpeg:https://www.vivid-curls.de/wp-content/uploads/20
 19/01/DSC_0452-8.jpg
CATEGORIES:Konzerte
LOCATION:kultBox Kempten\, Kottener Str. 62-64\, Kempten\, Deutschland
GEO:47.72014069999999;10.31691580000006
X-APPLE-STRUCTURED-LOCATION;VALUE=URI;X-ADDRESS=Kottener Str. 62-64\, Kempt
 en\, Deutschland;X-APPLE-RADIUS=100;X-TITLE=kultBox Kempten:geo:47.7201406
 9999999,10.31691580000006
END:VEVENT
END:VCALENDAR