BEGIN:VCALENDAR
VERSION:2.0
PRODID:-//wp-events-plugin.com//7.2.2.1//EN
BEGIN:VEVENT
UID:58@vivid-curls.de
DTSTART:20180316T180000Z
DTEND:20180316T210000Z
DTSTAMP:20180116T201024Z
URL:https://www.vivid-curls.de/events/casino-kornwestheim/
SUMMARY:Casino Kornwestheim
DESCRIPTION:Tickets und Infos unter www.casino-kornwestheim.com\n\nDuokonze
 rt
ATTACH;FMTTYPE=image/jpeg:https://www.vivid-curls.de/wp-content/uploads/20
 17/01/VividCurlsHeaderbild-verbessert-retuschiert-3-DSC_1724-e154957785651
 9.jpg
CATEGORIES:Konzerte
LOCATION:Casino Kornwestheim\, Aldinger Straße 80\, 70806 Kornwestheim\, D
 eutschland
GEO:48.8665741;9.199291700000003
X-APPLE-STRUCTURED-LOCATION;VALUE=URI;X-ADDRESS=Aldinger Straße 80\, 70806
  Kornwestheim\, Deutschland;X-APPLE-RADIUS=100;X-TITLE=Casino Kornwestheim
 :geo:48.8665741,9.199291700000003
END:VEVENT
END:VCALENDAR