BEGIN:VCALENDAR
VERSION:2.0
PRODID:-//wp-events-plugin.com//7.2.2.1//EN
BEGIN:VEVENT
UID:4@vivid-curls.de
DTSTART:20170126T180000Z
DTEND:20170126T213000Z
DTSTAMP:20170123T090203Z
URL:https://www.vivid-curls.de/events/casino-kleinwalsertal-mit-band/
SUMMARY:Casino Kleinwalsertal (mit Band)
DESCRIPTION:Tickets unter +43 (0) 55 17 / 2 07 80-0\, Infos unter www.raiff
 eisenholding.at
CATEGORIES:Konzerte
LOCATION:Casino Kleinwalsertal\, Walserstraße 31\, Riezlern\, 6991\, Öste
 rreich
GEO:47.3585672;10.190008000000034
X-APPLE-STRUCTURED-LOCATION;VALUE=URI;X-ADDRESS=Walserstraße 31\, Riezlern
 \, 6991\, Österreich;X-APPLE-RADIUS=100;X-TITLE=Casino Kleinwalsertal:geo
 :47.3585672,10.190008000000034
END:VEVENT
END:VCALENDAR