BEGIN:VCALENDAR
VERSION:2.0
PRODID:-//wp-events-plugin.com//7.2.2.1//EN
BEGIN:VEVENT
UID:47@vivid-curls.de
DTSTART:20171109T180000Z
DTEND:20171109T203000Z
DTSTAMP:20171106T183314Z
URL:https://www.vivid-curls.de/events/canada-mauerbachaichach/
SUMMARY:Canada - Mauerbach/Aichach
DESCRIPTION:Achtung - Achtung - leider entfällt das Konzert aufgrund einer
  Terminüberschneidung!\n\n&nbsp\;\n\n&nbsp\;
ATTACH;FMTTYPE=image/jpeg:https://www.vivid-curls.de/wp-content/uploads/20
 17/01/VividCurlsHeaderbild-verbessert-retuschiert-3-DSC_1724-e154957785651
 9.jpg
CATEGORIES:Duokonzert
LOCATION:Canada - Mauerbach/Aichach\, Hofmarkstr. 5A\, Aichach\, 86551\, De
 utschland
GEO:48.42966999999999;11.187869999999975
X-APPLE-STRUCTURED-LOCATION;VALUE=URI;X-ADDRESS=Hofmarkstr. 5A\, Aichach\, 
 86551\, Deutschland;X-APPLE-RADIUS=100;X-TITLE=Canada - Mauerbach/Aichach:
 geo:48.42966999999999,11.187869999999975
END:VEVENT
END:VCALENDAR