BEGIN:VCALENDAR
VERSION:2.0
PRODID:-//wp-events-plugin.com//7.2.2.1//EN
BEGIN:VEVENT
UID:38@vivid-curls.de
DTSTART:20170728T183000Z
DTEND:20170728T204500Z
DTSTAMP:20170510T081932Z
URL:https://www.vivid-curls.de/events/burghotel-baeren-eisenbergzell/
SUMMARY:Burghotel Bären - Eisenberg/Zell
DESCRIPTION:Duokonzert\n\n2016 war dieser Konzertabend einfach wundervoll!\
 n\nEin märchenhafter Ort\, gutes Essen und ein super Publikum.....wir fre
 uen uns auf ein Wiedersehen mit Euch!\n\nTickets und weiter Infos unter: 0
  83 63/50 11
ATTACH;FMTTYPE=image/jpeg:https://www.vivid-curls.de/wp-content/uploads/20
 17/01/VividCurlsHeaderbild-verbessert-retuschiert-3-DSC_1724-e154957785651
 9.jpg
CATEGORIES:Duokonzert
LOCATION:Burghotel Bären Eisenberg/Zell\, Dorfstr. 4\, Eisenberg\, 87637\,
  Deutschland
GEO:47.60339;10.587850000000003
X-APPLE-STRUCTURED-LOCATION;VALUE=URI;X-ADDRESS=Dorfstr. 4\, Eisenberg\, 87
 637\, Deutschland;X-APPLE-RADIUS=100;X-TITLE=Burghotel Bären Eisenberg/Ze
 ll:geo:47.60339,10.587850000000003
END:VEVENT
END:VCALENDAR