BEGIN:VCALENDAR
VERSION:2.0
PRODID:-//wp-events-plugin.com//7.2.2.1//EN
BEGIN:VEVENT
UID:129@vivid-curls.de
DTSTART:20191122T180000Z
DTEND:20191122T203000Z
DTSTAMP:20191024T101345Z
URL:https://www.vivid-curls.de/events/buergerhaus-schranne-giengen/
SUMMARY:Bürgerhaus Schranne - Giengen
DESCRIPTION:Bandkonzert und mit dem neuen Album: "...nicht müde werden!" 
 im Gepäck....wir freuen uns auf ein Wiedersehen!\n\nTickets: i-Punkt Gien
 gen\, Schreibwaren Süßmuth\, Ticketshop Pressehaus Heidenheim oder unter
 \n\nTel.: 0 82 91/8 59 93 90  - info@vivid-curls.de\n\n&nbsp\;\n\n&nbsp\;
 \n\n....das wird voll cool - wir freuen uns sehr!\n\nIrene &amp\; Inka\n\n
 &nbsp\;
ATTACH;FMTTYPE=image/jpeg:https://www.vivid-curls.de/wp-content/uploads/20
 19/01/DSC_0452-8.jpg
CATEGORIES:Konzerte
LOCATION:Bürgerhaus Schranne\, Schrannenstr. 12\, Giengen an der Brenz\, 8
 9537\, Deutschland
GEO:48.6219334;10.24460010000007
X-APPLE-STRUCTURED-LOCATION;VALUE=URI;X-ADDRESS=Schrannenstr. 12\, Giengen 
 an der Brenz\, 89537\, Deutschland;X-APPLE-RADIUS=100;X-TITLE=Bürgerhaus 
 Schranne:geo:48.6219334,10.24460010000007
END:VEVENT
END:VCALENDAR